{"text_format":"2","workbook":"xlsx","n_sheets":3,"sheets":["Основные","Суммарные","Лист3"],"not_rendered":{"charts":0,"images":0,"macros":0,"external_links":0,"defined_names":0,"comments":0,"pivot_tables":0},"unopened":[],"bounds":{"document_bytes":16777216,"sheet_cells":100000,"run_cost":"one","rows_first":2000,"rows_last":500,"rows_between":2000,"halvings":0,"cell_chars":16384,"cell_head_chars":4096},"cells_cut":0,"cells_raw":0,"read":"whole","date_system":"1900"}

{"sheet":"Основные","index":0,"n_rows":113,"n_cols":11,"rows_kept":113,"cut":false,"hidden":false,"merged":[[1,0,11,0],[1,10,11,10],[12,0,15,0],[26,0,32,0],[33,0,39,0],[16,0,21,0],[22,0,25,0],[12,10,15,10],[16,10,21,10],[22,10,25,10],[26,10,32,10],[33,10,39,10],[16,11,18,11],[16,12,18,12],[16,13,18,13],[16,16,16,18],[17,16,17,18],[18,16,18,18],[21,11,22,11],[21,12,22,12],[21,13,22,13],[21,16,21,18],[22,16,22,18],[0,14,0,15],[0,16,0,18],[1,16,1,18],[2,11,2,26],[3,11,15,11],[3,12,15,12],[3,13,15,13],[3,16,3,18],[4,16,4,18],[11,16,11,18],[15,16,15,18],[45,10,46,10],[40,0,44,0],[60,0,63,0],[49,0,56,0],[49,10,56,10],[57,0,59,0],[40,10,44,10],[45,0,46,0],[81,9,82,10],[81,0,82,8],[47,0,48,8],[47,9,48,10],[57,10,59,10],[60,10,63,10],[64,10,69,10],[70,10,72,10],[73,10,76,10],[79,10,80,10],[64,0,69,0],[70,0,72,0],[73,0,76,0],[79,0,80,0],[77,6,78,6],[77,7,78,7],[83,0,87,0],[88,0,91,0],[92,0,100,0],[88,10,91,10],[92,10,100,10],[83,10,87,10],[77,8,78,8],[77,9,78,9],[77,10,78,10],[77,0,78,0],[77,2,78,2],[77,3,78,3],[77,4,78,4],[77,5,78,5],[112,0,113,8],[112,9,113,10],[110,9,111,10],[110,0,111,8],[101,10,102,10],[103,10,106,10],[107,10,109,10],[101,0,102,0],[103,0,106,0],[107,0,109,0]]}
["Номер, назначение помещения","tp0C, площадь помещения F, м2","Наименование ораждения","Ориентация","Размеры, м","А, м2","k,Вт/(м2 0С)_","(tp-text)n,0C","1+Sb","Q,Вт","Примечание Q"]
["001 Тренажерный зал",18,"нс(1)","с","2*4,25",{"$f":"2*4.25","v":8.5},{"$f":"1/2.1","v":0.47619047619047616},{"$f":"$B$2+24","v":42},1,{"$f":"G2*F2*H2*I2","v":170},{"$f":"MROUND(SUM(J2:J12),10)","v":900}]
[null,39.58,"нс(2)","с","1*4,25",{"$f":"1*4.25","v":4.25},{"$f":"1/4.3","v":0.23255813953488372},{"$f":"$B$2+24","v":42},1,{"$f":"G3*F3*H3*I3","v":41.511627906976742}]
[null,null,"нс(3)","з","2*8,4",{"$f":"2*8.4","v":16.8},{"$f":"1/8.6","v":0.11627906976744186},42,1,82.04651162790698]
[null,null,"нс(4)","з","1*8,4",{"$f":"1*8.4","v":8.4},{"$f":"1/14.2","v":7.0422535211267609E-2},42,1,24.845070422535215]
[null,null,"нс(1)","з","2*1,6",{"$f":"2*1.6","v":3.2},{"$f":"1/2.1","v":0.47619047619047616},42,1,64]
[null,null,"нс(1)","ю","2*4,25-(1,3*1,3)",{"$f":"2*4.25-(1.3*1.3)","v":6.81},{"$f":"1/2.1","v":0.47619047619047616},42,1,136.19999999999999]
[null,null,"нс(2)","ю","1*4,25",{"$f":"1*4.25","v":4.25},{"$f":"1/4.3","v":0.23255813953488372},42,1,41.511627906976742]
[null,null,"окно","ю","1,3*1,3",{"$f":"1.3*1.3","v":1.6900000000000002},{"$f":"1/0.6","v":1.6666666666666667},42,1,118.30000000000001]
[null,null,"пл(2)","-","4,25+5,35",{"$f":"4.25+5.35","v":9.6},{"$f":"1/4.3","v":0.23255813953488372},42,1,93.767441860465112]
[null,null,"пл(3)","-","7,4+8,5",15.9,{"$f":"1/8.6","v":0.11627906976744186},42,1,77.651162790697668]
[null,null,"пл(4)","-",17,17,{"$f":"1/14.2","v":7.0422535211267609E-2},42,1,50.281690140845072]
["002 Постирочная",15,"нс(1)","ю","2*3,46",{"$f":"2*3.46","v":6.92},{"$f":"1/2.1","v":0.47619047619047616},{"$f":"$B$13+24","v":39},1,{"$f":"I13*H13*G13*F13","v":128.51428571428571},{"$f":"MROUND(SUM(J13:J16),10)","v":200}]
[null,3.61,"нс(2)","ю","1*3,46",{"$f":"1*3.46","v":3.46},{"$f":"1/4.3","v":0.23255813953488372},{"$f":"$B$13+24","v":39},1,{"$f":"I14*H14*G14*F14","v":31.381395348837209}]
[null,null,"пл(2)","-","1*3,46",{"$f":"1*3.46","v":3.46},{"$f":"1/4.3","v":0.23255813953488372},39,1,{"$f":"I15*H15*G15*F15","v":31.381395348837209}]
[null,null,"пл(3)","-","0,25*3,46",{"$f":"0.25*3.46","v":0.86499999999999999},{"$f":"1/8.6","v":0.11627906976744186},39,1,3.9226744186046512]
["003    Душевая",25,"нс(1)","ю","2*2,145",{"$f":"2.145*2","v":4.29},{"$f":"1/2.1","v":0.47619047619047616},{"$f":"$B$17+24","v":49},1,100.1,{"$f":"MROUND(SUM(J17:J22),10)","v":300}]
[null,4.28,"нс(2)","ю","1*2,145",{"$f":"2.145*1","v":2.145},{"$f":"1/4.3","v":0.23255813953488372},{"$f":"$B$17+24","v":49},1,24.443023255813955]
[null,null,"нс(1)","в","2*2,23",{"$f":"2*2.23","v":4.46},{"$f":"1/2.1","v":0.47619047619047616},49,1,104.06666666666666]
[null,null,"нс(2)","в","1*2,23",{"$f":"1*2.23","v":2.23},{"$f":"1/4.3","v":0.23255813953488372},49,1,25.411627906976747]
[null,null,"пл(2)","-",3.38,{"$f":"E21","v":3.38},{"$f":"1/4.3","v":0.23255813953488372},49,1,38.516279069767442]
[null,null,"пл(3)","-",1.41,{"$f":"E22","v":1.41},{"$f":"1/8.6","v":0.11627906976744186},49,1,8.0337209302325583]
["004   Уборная",18,"нс(1)","в","2*1,48",{"$f":"2*1.48","v":2.96},{"$f":"1/2.1","v":0.47619047619047616},{"$f":"$B$23+24","v":42},1,59.2,{"$f":"MROUND(SUM(J23:J26),10)","v":100}]
[null,2.34,"нс(2)","в","1*1,48",{"$f":"1*1.48","v":1.48},{"$f":"1/4.3","v":0.23255813953488372},{"$f":"$B$23+24","v":42},1,14.455813953488372]
[null,null,"пл(2)","-",1.47,{"$f":"E25","v":1.47},{"$f":"1/4.3","v":0.23255813953488372},42,1,14.358139534883721]
[null,null,"пл(3)","-",1.69,{"$f":"E26","v":1.69},{"$f":"1/8.7","v":0.1149425287356322},42,1,8.158620689655173]
["005    Топочная",16,"нс(1)","в","2*1,16-(0,57*0,2)",{"$f":"2*1.16-(0.57*0.2)","v":2.206},{"$f":"1/2.1","v":0.47619047619047616},{"$f":"$B$27+24","v":40},1,42.019047619047619,{"$f":"MROUND(SUM(J27:J33),10)","v":290}]
[null,4.78,"нс(2)","в","1*1,16",{"$f":"1*1.16","v":1.1599999999999999},{"$f":"1/4.3","v":0.23255813953488372},{"$f":"$B$27+24","v":40},1,10.790697674418604]
[null,null,"окно","в","0,57*0,2",{"$f":"0.57*0.2","v":0.11399999999999999},{"$f":"1/0.6","v":1.6666666666666667},40,1,7.6]
[null,null,"нс","в","3*1,38-(0,91*2,1)",{"$f":"3*1.38-(0.91*2.1)","v":2.2289999999999992},{"$f":"1/3.2","v":0.3125},40,1,27.86249999999999]
[null,null,"дверь","в","0,91*2,1",{"$f":"0.91*2.1","v":1.9110000000000003},{"$f":"1/0.46","v":2.1739130434782608},40,1,166.17391304347828]
[null,null,"пл(2)","-",2.54,{"$f":"E32","v":2.54},{"$f":"1/4.3","v":0.23255813953488372},40,1,23.627906976744189]
[null,null,"пл(3)","-",3.1,{"$f":"E33","v":3.1},{"$f":"1/8.7","v":0.1149425287356322},40,1,14.252873563218394]
["006    Кладовая",16,"нс(1)","з","2*3,75",{"$f":"2*3.75","v":7.5},{"$f":"1/2.1","v":0.47619047619047616},{"$f":"$B$34+24","v":40},1,142.85714285714286,{"$f":"MROUND(SUM(J34:J40),10)","v":340}]
[null,7.74,"нс(2)","з","1*3,75",{"$f":"1*3.75","v":3.75},{"$f":"1/4.3","v":0.23255813953488372},{"$f":"$B$34+24","v":40},1,34.883720930232563]
[null,null,"нс(1)","с","2*2,19",{"$f":"2*2.19","v":4.38},{"$f":"1/2.1","v":0.47619047619047616},40,1,83.428571428571431]
[null,null,"нс(2)","с","1*2,19",{"$f":"1*2.19","v":2.19},{"$f":"1/4.3","v":0.23255813953488372},40,1,20.372093023255815]
[null,null,"пл(2)","-",4.5,{"$f":"E38","v":4.5},{"$f":"1/4.3","v":0.23255813953488372},40,1,41.860465116279073]
[null,null,"пл(3)","-",2.4,{"$f":"E39","v":2.4},{"$f":"1/8.7","v":0.1149425287356322},40,1,11.03448275862069]
[null,null,"пл(4)","-",1.35,{"$f":"E40","v":1.35},{"$f":"1/14.2","v":7.0422535211267609E-2},40,1,3.8028169014084514]
["007   Кладовая",16,"нс(2)","с","0,5*3,42",{"$f":"0.5*3.42","v":1.71},1.67,{"$f":"$B$46+24","v":40},1,{"$f":"I41*H41*G41*F41","v":114.22799999999999},{"$f":"MROUND(SUM(J41:J45),10)","v":280}]
[null,10.47,"нс(3)","с","2*3,42",{"$f":"2*3.42","v":6.84},{"$f":"1/2.7","v":0.37037037037037035},{"$f":"$B$46+24","v":40},1,101.33333333333331]
[null,null,"нс(4)","с","0,5*3,42",{"$f":"0.5*3.42","v":1.71},0.37,40,1,25.308]
[null,null,"пл(3)","-",0.49,{"$f":"E44","v":0.49},{"$f":"1/8.7","v":0.1149425287356322},40,1,2.2528735632183912]
[null,null,"пл(4)","-",11.87,{"$f":"E45","v":11.87},{"$f":"1/14.2","v":7.0422535211267609E-2},40,1,33.436619718309856]
["008   Холл",16,"нс(3)","-",8.6999999999999993,{"$f":"E46","v":8.6999999999999993},{"$f":"1/8.7","v":0.1149425287356322},{"$f":"$B$46+24","v":40},1,40,{"$f":"MROUND(SUM(J46:J47),10)","v":70}]
[null,15.04,"нс(4)","-",8.9,{"$f":"E47","v":8.9},{"$f":"1/14.2","v":7.0422535211267609E-2},{"$f":"$B$46+24","v":40},1,25.070422535211272]
["Итого по цокольному этажу:",{"$nulls":8},{"$f":"SUM(K2:K47)","v":2480}]
[]
["101 Гараж",5,"нс","с","6*2,95",{"$f":"6*2.95","v":17.700000000000003},{"$f":"1/3.5","v":0.2857142857142857},{"$f":"$B$50+24","v":29},1.1499999999999999,{"$f":"G50*F50*H50*I50","v":168.65571428571428},{"$f":"MROUND(SUM(J50:J57),10)","v":1450}]
[null,44.24,"нс","з","8,7*2,95",{"$f":"8.7*2.95","v":25.664999999999999},{"$f":"1/3.5","v":0.2857142857142857},{"$f":"$B$50+24","v":29},1.1499999999999999,{"$f":"G51*F51*H51*I51","v":244.55078571428564}]
[null,null,"нс","ю","6*2,95-(3,6*2,15)",{"$f":"6*2.95-(3.6*2.15)","v":9.9600000000000026},0.2857142857142857,29,1.05,86.652000000000029]
[null,null,"ворота","ю","3,6*2,15",{"$f":"3.6*2.15","v":7.74},{"$f":"1/1","v":1},29,1.05,235.68300000000002]
[null,null,"вс","в","8,7*2,95",{"$f":"8.7*2.95","v":25.664999999999999},{"$f":"1/3.5","v":0.2857142857142857},{"$f":"$B$50-20","v":-15},1,-109.99285714285713]
[null,null,"пл(1)","-",30.3,{"$f":"E55","v":30.3},0.37,29,1,325.11900000000003]
[null,null,"пл(2)","-",14,{"$f":"E56","v":14},0.37,29,1,{"$f":"G56*F56*H56*I56","v":150.22}]
[null,null,"пт","-",44.24,{"$f":"E57","v":44.24},{"$f":"1/3.34","v":0.29940119760479045},{"$f":"($B$50+24)*0.9","v":26.1},1,345.70778443113784]
["102   Столовая",20,"нс","с","4,38*3,3-2*(1,3*1,5)",{"$f":"4.38*3.3-2*(1.3*1.5)","v":10.553999999999998},{"$f":"1/3.5","v":0.2857142857142857},{"$f":"$B$58+24","v":44},1.1000000000000001,{"$f":"I58*H58*G58*F58","v":145.94674285714285},{"$f":"MROUND(SUM(J58:J60),10)","v":510}]
[null,16.149999999999999,"окно","с","2(1,3*1,5)",{"$f":"1.3*1.5*2","v":3.9000000000000004},{"$f":"1/0.6","v":1.6666666666666667},{"$f":"$B$58+24","v":44},1.1000000000000001,314.60000000000008]
[null,null,"вс","-","4,05*2,95",{"$f":"4.05*2.95","v":11.9475},{"$f":"1/3.5","v":0.2857142857142857},{"$f":"$B$58-5","v":15},1,51.203571428571429]
["103 Гостинная",20,"вс","-","4,05*2,95",{"$f":"4.05*2.95","v":11.9475},{"$f":"1/3.5","v":0.2857142857142857},{"$f":"$B$58-5","v":15},1,51.203571428571429,{"$f":"MROUND(SUM(J61:J64),10)","v":610}]
[null,23.89,"нс","з","2,3*3,3",{"$f":"2.3*3.3","v":7.589999999999999},{"$f":"1/3.5","v":0.2857142857142857},{"$f":"$B$58+24","v":44},1.1000000000000001,{"$f":"I62*H62*G62*F62","v":104.95885714285713}]
[null,null,"нс","ю","4,65*3,3-2*(1,3*1,5)",{"$f":"4.65*3.3-2*(1.3*1.5)","v":11.445},0.2857142857142857,44,1.05,151.07399999999998]
[null,null,"окно","ю","2(1,3*1,5)",{"$f":"2*(1.3*1.5)","v":3.9000000000000004},{"$f":"1/0.6","v":1.6666666666666667},44,1.05,300.30000000000007]
["104 Кухня",18,"нс","в","2,8*3,3-(1,51*1,5)",{"$f":"1.5*1.5","v":2.25},1.67,{"$f":"$B$65+24","v":42},1.1499999999999999,181.48724999999996,{"$f":"MROUND(SUM(J65:J70),10)","v":1220}]
[null,23.09,"окно","в","1,51*1,5",{"$f":"1.51*1.5","v":2.2650000000000001},{"$f":"1/0.6","v":1.6666666666666667},{"$f":"$B$65+24","v":42},1.1499999999999999,182.33250000000001]
[null,null,"нс","с","4,8*3,3-2*(0,8*1,5)-1,51*1,5",{"$f":"4.8*3.3-2*(0.8*1.5)-1.51*1.5","v":11.174999999999997},{"$f":"1/3.5","v":0.2857142857142857},42,1.1499999999999999,154.21499999999995]
[null,null,"окно","с","2*(0,8*1,5)+1,51*1,5",{"$f":"2*(0.8*1.5)+1.51*1.5","v":4.6650000000000009},{"$f":"1/0.6","v":1.6666666666666667},42,1.1499999999999999,375.53250000000008]
[null,null,"нс","з","2,8*3,3-(1,51*2,1)",{"$f":"2.8*3.3-(1.51*2.1)","v":6.0689999999999982},{"$f":"1/3.5","v":0.2857142857142857},42,1.1000000000000001,80.110799999999969]
[null,null,"дверь","з","1,51*2,1",{"$f":"1.51*2.1","v":3.1710000000000003},{"$f":"1/0.6","v":1.6666666666666667},42,1.1000000000000001,244.16700000000006]
["105 Кабинет",20,"нс","с","2,44*3,3",{"$f":"2.44*3.3","v":8.0519999999999996},{"$f":"1/3.5","v":0.2857142857142857},{"$f":"$B$71+24","v":44},1.1499999999999999,116.40891428571426,{"$f":"MROUND(SUM(J71:J73),10)","v":510}]
[null,8.7899999999999991,"нс","з","4,65*3,3",{"$f":"4.65*3.3","v":15.345000000000001},{"$f":"1/3.5","v":0.2857142857142857},{"$f":"$B$71+24","v":44},1.1000000000000001,212.1994285714286]
[null,null,"окно","з","1,51*1,5",{"$f":"1.51*1.5","v":2.2650000000000001},{"$f":"1/0.6","v":1.6666666666666667},44,1.1000000000000001,182.71000000000006]
["106 Холл",16,"нс","в","2,04*3,3-(1,31*1,5)",{"$f":"2.04*3.3-(1.31*1.5)","v":4.7669999999999995},{"$f":"1/3.5","v":0.2857142857142857},{"$f":"$B$74+24","v":40},1.1000000000000001,59.92799999999999,{"$f":"MROUND(SUM(J74:J77),10)","v":400}]
[null,22.05,"окно","в","1,31*1,5",{"$f":"1.31*1.5","v":1.9650000000000001},{"$f":"1/0.6","v":1.6666666666666667},{"$f":"$B$74+24","v":40},1.1000000000000001,144.10000000000002]
[null,null,"нс","ю","3,46*3,3-(1,1*2,1)",{"$f":"3.46*3.3-(1.1*2.1)","v":9.1079999999999988},{"$f":"1/3.5","v":0.2857142857142857},40,1,104.09142857142854]
[null,null,"дверь","ю","1,1*2,1",{"$f":"1.1*2.1","v":2.3100000000000005},{"$f":"1/1","v":1},40,1,92.40000000000002]
["107 Уборная",18,"окно","в","1,82*3,3",{"$f":"1.82*3.3","v":6.0060000000000002},{"$f":"1/3.5","v":0.2857142857142857},{"$f":"$B$78+24","v":42},1.1000000000000001,79.279200000000003,{"$f":"MROUND(SUM(J78:J78),10)","v":80}]
[null,3.16]
["108 Гардероб",16,"нс","в","2,29*3,3",{"$f":"2.29*3.3","v":7.5569999999999995},{"$f":"1/3.5","v":0.2857142857142857},42,1.1499999999999999,104.28659999999998,{"$f":"MROUND(SUM(J80:J81),10)","v":220}]
[null,3.7,"нс","ю","2,55*3,3",{"$f":"2.55*3.3","v":8.4149999999999991},{"$f":"1/3.5","v":0.2857142857142857},42,1.1499999999999999,116.12699999999998]
["Итого по 1 этажу:",{"$nulls":8},{"$f":"SUM(K50:K81)","v":5000}]
[]
["201 Спальня",20,"нс","з","6*3,3-(0,81*2,1)",{"$f":"6*3.3-(0.81*2.1)","v":18.098999999999997},{"$f":"1/3.5","v":0.2857142857142857},{"$f":"$B$84+24","v":44},1.1499999999999999,{"$f":"I84*H84*G84*F84","v":261.65982857142848},{"$f":"MROUND(SUM(J84:J87),10)","v":1100}]
[null,22.46,"дверь","з","2,3*3,3",{"$f":"2.3*3.3","v":7.589999999999999},{"$f":"1/1","v":1},{"$f":"$B$84+24","v":44},1.1499999999999999,384.05399999999992]
[null,null,"нс","ю","4,65*3,3-2*(1,3*1,5)",{"$f":"4.65*3.3-2*(1.3*1.5)","v":11.445},{"$f":"1/3.5","v":0.2857142857142857},44,1.05,151.07399999999998]
[null,null,"окно","ю","2(1,3*1,5)",{"$f":"2*(1.3*1.5)","v":3.9000000000000004},{"$f":"1/0.6","v":1.6666666666666667},44,1.05,{"$f":"I87*H87*G87*F87","v":300.30000000000007}]
[null,null,"пт","-",{"$f":"B85","v":22.46},{"$f":"B85","v":22.46},{"$f":"1/6","v":0.16666666666666666},44,1,{"$f":"I88*H88*G88*F88","v":164.70666666666668}]
["202 Детская",20,"нс","с","4,38*3,3-2*(1,3*1,5)",{"$f":"4.38*3.3-2*(1.3*1.5)","v":10.553999999999998},{"$f":"1/3.5","v":0.2857142857142857},{"$f":"$B$89+24","v":44},1.1499999999999999,152.58068571428566,{"$f":"MROUND(SUM(J89:J91),10)","v":710}]
[null,17.579999999999998,"окно","с","2(1,3*1,5)",{"$f":"1.3*1.5*2","v":3.9000000000000004},{"$f":"1/0.6","v":1.6666666666666667},{"$f":"$B$89+24","v":44},1.1499999999999999,328.90000000000003]
[null,null,"нс","з","4,8*3,3",{"$f":"4.8*3.3","v":15.839999999999998},{"$f":"1/3.5","v":0.2857142857142857},{"$f":"$B$89+24","v":44},1.1499999999999999,{"$f":"I91*H91*G91*F91","v":229.00114285714281}]
[null,null,"пт","-",{"$f":"B90","v":17.579999999999998},{"$f":"E92","v":17.579999999999998},{"$f":"1/6","v":0.16666666666666666},{"$f":"$B$89+24","v":44},1,{"$f":"I92*H92*G92*F92","v":128.91999999999999}]
["203 Детская",20,"нс","в","3,05*3,3",{"$f":"3.05*3.3","v":10.065},{"$f":"1/3.5","v":0.2857142857142857},{"$f":"$B$93+24","v":44},1.1499999999999999,145.51114285714283,{"$f":"MROUND(SUM(J93:J100),10)","v":1680}]
[null,24.64,"нс","в","2,64*3,3",{"$f":"2.64*3.3","v":8.7119999999999997},{"$f":"1/3.5","v":0.2857142857142857},{"$f":"$B$93+24","v":44},1.1499999999999999,125.95062857142855]
[null,null,"нс","в","2,8*3,3-(1,51*1,5)",{"$f":"1.5*1.5","v":2.25},2.67,44,1.1499999999999999,303.97949999999992]
[null,null,"окно","в","1,51*1,5",{"$f":"1.51*1.5","v":2.2650000000000001},{"$f":"1/0.6","v":1.6666666666666667},44,1.1499999999999999,191.01499999999999]
[null,null,"нс","с","4,8*3,3-2*(0,8*1,5)-1,51*1,5",{"$f":"4.8*3.3-2*(0.8*1.5)-1.51*1.5","v":11.174999999999997},{"$f":"1/3.5","v":0.2857142857142857},44,1.1499999999999999,161.55857142857138]
[null,null,"окно","с","2*(0,8*1,5)+1,51*1,5",{"$f":"2*(0.8*1.5)+1.51*1.5","v":4.6650000000000009},{"$f":"1/0.6","v":1.6666666666666667},44,1.1499999999999999,393.41500000000008]
[null,null,"нс","з","2,8*3,3-(1,51*2,1)",{"$f":"2.8*3.3-(1.51*2.1)","v":6.0689999999999982},{"$f":"1/3.5","v":0.2857142857142857},44,1.1499999999999999,87.740399999999966]
[null,null,"дверь","з","1,51*2,1",{"$f":"1.51*2.1","v":3.1710000000000003},{"$f":"1/0.6","v":1.6666666666666667},44,1.1499999999999999,{"$f":"I100*H100*G100*F100","v":267.42099999999999}]
[null,null,"пт","-",{"$f":"B94","v":24.64},{"$f":"E101","v":24.64},{"$f":"1/6","v":0.16666666666666666},44,1,{"$f":"I101*H101*G101*F101","v":180.69333333333333}]
["204 С/у",18,"нс","в","3,64*3,3",{"$f":"3.64*3.3","v":12.012},{"$f":"1/3.5","v":0.2857142857142857},{"$f":"$B$102+24","v":42},1.1000000000000001,{"$f":"I102*H102*G102*F102","v":158.55840000000001},{"$f":"MROUND(SUM(J102:J102),10)","v":160}]
[null,6.25,"пт","-",{"$f":"B103","v":6.25},{"$f":"E103","v":6.25},{"$f":"1/6","v":0.16666666666666666},{"$f":"$B$102+24","v":42},1,43.75]
["205 С/у",25,"нс","в","4,11*3,3-0,93",{"$f":"4.11*3.3-0.93","v":12.633000000000001},{"$f":"1/3.5","v":0.2857142857142857},{"$f":"$B$104+24","v":49},1.1499999999999999,203.3913,{"$f":"MROUND(SUM(J104:J106),10)","v":470}]
[null,9.23,"окно","в",0.93,0.93,{"$f":"1/0.6","v":1.6666666666666667},{"$f":"$B$104+24","v":49},1.1499999999999999,87.342500000000001]
[null,null,"нс","ю","3,67*3,3",{"$f":"3.67*3.3","v":12.110999999999999},{"$f":"1/3.5","v":0.2857142857142857},49,1.05,{"$f":"I106*H106*G106*F106","v":178.03169999999997}]
[null,null,"пт",null,{"$f":"B105","v":9.23},{"$f":"E107","v":9.23},{"$f":"1/6","v":0.16666666666666666},49,1,{"$f":"I107*H107*G107*F107","v":75.37833333333333}]
["206 Холл",16,"нс","ю","2,34*3,3-(1,31*1,5)",{"$f":"1.5*1.5","v":2.25},{"$f":"1/3.5","v":0.2857142857142857},{"$f":"$B$108+24","v":40},1,25.714285714285712,{"$f":"MROUND(SUM(J108:J110),10)","v":590}]
[null,16.22,"окно","ю","1,31*1,5",{"$f":"2.6*3.52-2.25","v":6.902000000000001},{"$f":"1/0.6","v":1.6666666666666667},{"$f":"$B$108+24","v":40},1,460.13333333333344]
[null,null,"пт","-",{"$f":"B109","v":16.22},{"$f":"E110","v":16.22},{"$f":"1/6","v":0.16666666666666666},40,1,108.13333333333331]
["Итого по 2 этажу:",{"$nulls":8},{"$f":"SUM(K84:K110)","v":4710}]
[]
["Итого по всему зданию:",{"$nulls":8},{"$f":"J48+J82+J111","v":12190}]

{"sheet":"Суммарные","index":1,"n_rows":27,"n_cols":13,"rows_kept":27,"cut":false,"hidden":false,"merged":[[9,3,9,11],[9,0,9,1],[18,0,18,1],[18,3,18,11],[25,0,25,1],[25,3,25,11]]}
["Номерпомещения","Номер, назначение помещения"," Q, кВт,основные теплопотери","А,кв. м, площадь помещения","V, куб.м, объем помещения","Lп, расход приточного воздуха","tр, температура в помещении","с, удельная теплоемкость воздуха","ρ, плотность воздуха в помещении","ti, наружная температура по параметру Б","k, коэффициент учета влияния встречного теплового потока в конструкциях"," Qi, теплопотери на нагрев инфильтрующегося воздуха"," ΣQ,кВт, суммарные теплопотери"]
["001","Тренажерный зал",{"$f":"Основные!K2","v":900},{"$f":"Основные!B3","v":39.58},{"$f":"D2*3","v":118.74},80,18,1.0049999999999999,{"$f":"353/(G2+273)","v":1.2130584192439862},-24,1,{"$f":"MROUND(0.28*F2*I2*H2*(G2-J2)*K2,10)","v":1150},{"$f":"C2+L2","v":2050}]
["002","Постирочная",{"$f":"Основные!K13","v":200},{"$f":"Основные!B14","v":3.61},{"$f":"D3*3","v":10.83},25,15,1.0049999999999999,{"$f":"353/(G3+273)","v":1.2256944444444444},-24,1,{"$f":"MROUND(0.28*F3*I3*H3*(G3-J3)*K3,10)","v":340},{"$f":"C3+L3","v":540}]
["003","Душевая",{"$f":"Основные!K17","v":300},{"$f":"Основные!B18","v":4.28},12.84,{"$f":"5*E4","v":64.2},25,1.0049999999999999,1.1845637583892616,-24,1,1050,1350]
["004","Уборная",{"$f":"Основные!K23","v":100},{"$f":"Основные!B24","v":2.34},7.02,25,18,1.0049999999999999,1.2130584192439862,-24,1,360,460]
["005","Топочная",{"$f":"Основные!K27","v":290},{"$f":"Основные!B28","v":4.78},14.34,110,16,1.0049999999999999,1.2214532871972319,-24,1,1510,1800]
["006","Кладовая",{"$f":"Основные!K34","v":340},{"$f":"Основные!B35","v":7.74},23.22,25,16,1.0049999999999999,1.2214532871972319,-24,1,340,680]
["007","Кладовая",{"$f":"Основные!K41","v":280},{"$f":"Основные!B42","v":10.47},31.410000000000004,25,16,1.0049999999999999,1.2214532871972319,-24,1,340,620]
["008","Холл",{"$f":"Основные!K46","v":70},{"$f":"Основные!B47","v":15.04},45.12,0,16,1.0049999999999999,1.2214532871972319,-24,1,0,70]
["Σ",null,{"$f":"SUM(C2:C9)","v":2480},{"$nulls":9},{"$f":"SUM(M2:M9)","v":7570}]
["101","Гараж",{"$f":"Основные!K50","v":1450},{"$f":"Основные!B51","v":44.24},132.72,360,5,1.0049999999999999,1.2697841726618706,-24,1,3730,5180]
["102","Столовая",{"$f":"Основные!K58","v":510},{"$f":"Основные!B59","v":16.149999999999999},48.449999999999996,{"$f":"MROUND(C12/3,10)","v":170},20,1.0049999999999999,1.204778156996587,-24,1,2540,3050]
["103","Гостинная",{"$f":"Основные!K61","v":610},{"$f":"Основные!B62","v":23.89},71.67,{"$f":"MROUND(C13/3,10)","v":200},20,1.0049999999999999,1.204778156996587,-24,1,2980,3590]
["104","Кухня",{"$f":"Основные!K65","v":1220},{"$f":"Основные!B66","v":23.09},69.27,90,18,1.0049999999999999,1.2130584192439862,-24,1,1290,2510]
["105","Кабинет",{"$f":"Основные!K71","v":510},{"$f":"Основные!B72","v":8.7899999999999991},26.369999999999997,{"$f":"MROUND(C15/3,10)","v":170},20,1.0049999999999999,1.204778156996587,-24,1,2540,3050]
["106","Холл",{"$f":"Основные!K74","v":400},{"$f":"Основные!B75","v":22.05},66.150000000000006,0,16,1.0049999999999999,1.2214532871972319,-24,1,0,400]
["107","Уборная",{"$f":"Основные!K78","v":80},{"$f":"Основные!B79","v":3.16},9.48,25,16,1.0049999999999999,1.2214532871972319,-24,1,340,420]
["108","Гардероб",{"$f":"Основные!K80","v":220},{"$f":"Основные!B81","v":3.7},11.100000000000001,0,16,1.0049999999999999,1.2214532871972319,-24,1,0,220]
["Σ",null,{"$f":"SUM(C11:C18)","v":5000},{"$nulls":9},{"$f":"SUM(M11:M18)","v":18420}]
["201","Спальня",{"$f":"Основные!K84","v":1100},{"$f":"Основные!B85","v":22.46},67.38,{"$f":"MROUND(C20/3,10)","v":370},20,1.0049999999999999,1.204778156996587,-24,1,5520,6620]
["202","Детская",{"$f":"Основные!K89","v":710},{"$f":"Основные!B90","v":17.579999999999998},52.739999999999995,{"$f":"MROUND(C21/3,10)","v":240},20,1.0049999999999999,1.204778156996587,-24,1,3580,4290]
["203","Детская",{"$f":"Основные!K93","v":1680},{"$f":"Основные!B94","v":24.64},73.92,{"$f":"MROUND(C22/3,10)","v":560},20,1.0049999999999999,1.204778156996587,-24,1,8350,10030]
["204","С/у",{"$f":"Основные!K102","v":160},{"$f":"Основные!B103","v":6.25},18.75,50,18,1.0049999999999999,1.2130584192439862,-24,1,720,880]
["205","С/у",{"$f":"Основные!K104","v":470},{"$f":"Основные!B105","v":9.23},27.69,50,25,1.0049999999999999,1.1845637583892616,-24,1,820,1290]
["206","Холл",{"$f":"Основные!K108","v":590},{"$f":"Основные!B109","v":16.22},48.66,0,16,1.0049999999999999,1.2214532871972319,-24,1,0,590]
["Σ",null,{"$f":"SUM(C20:C25)","v":4710},{"$nulls":9},{"$f":"SUM(M20:M25)","v":23700}]
[null,"Σ",{"$f":"SUM(C26,C19,C10)","v":12190},{"$nulls":8},"Σ",{"$f":"SUM(M26,M19,M10)","v":49690}]

{"sheet":"Лист3","index":2,"n_rows":0,"n_cols":0,"rows_kept":0,"cut":false,"hidden":false,"merged":[]}